BEGIN:VCALENDAR
VERSION:2.0
PRODID:-//Centre Excursionista Navàs - ECPv4.1//NONSGML v1.0//EN
CALSCALE:GREGORIAN
METHOD:PUBLISH
X-WR-CALNAME:Centre Excursionista Navàs
X-ORIGINAL-URL:http://cen.navas.cat
X-WR-CALDESC:Events for Centre Excursionista Navàs
BEGIN:VEVENT
DTSTART;TZID="Europe/Andorra":20181028T090600
DTEND;TZID="Europe/Andorra":20181028T150000
DTSTAMP:20260423T190019
CREATED:20180911T154126
LAST-MODIFIED:20180925T193913
UID:10390-1540717560-1540738800@cen.navas.cat
SUMMARY:Trenca 3 pics 2018
DESCRIPTION:Arriba la V edició de la cursa de muntanya Trenca 3 Pics de Navàs!\n\nLa cursa idònia per a l’exigent i l’apassionat de les curses de muntanya. La millor ocasió si t’agrada córrer\, envoltat de verd i amb la companyia d’aquells amb qui comparteixes aquesta afició.\n\nAmb mutlitud de corriols en el transcurs del recorregut\, aquesta promet ser una cursa que no et deixarà indiferent.\n\nPer més informació us podeu adreçar a la web: http://trenca3pics.weebly.com/\n\n
URL:http://cen.navas.cat/event/trenca-3-pics-2018/
LOCATION:Passeig Ramon Vall\, 71\, Navàs\, Barcelona\, 08670\, Espanya
ORGANIZER;CN="Centre%20Excursionista%20Nav%C3%A0s%20-%20Trenca%203%20Pics":MAILTO:trenca3pics@gmail.com
END:VEVENT
END:VCALENDAR