BEGIN:VCALENDAR
VERSION:2.0
PRODID:-//Centre Excursionista Navàs - ECPv4.1//NONSGML v1.0//EN
CALSCALE:GREGORIAN
METHOD:PUBLISH
X-WR-CALNAME:Centre Excursionista Navàs
X-ORIGINAL-URL:http://cen.navas.cat
X-WR-CALDESC:Events for Centre Excursionista Navàs
BEGIN:VEVENT
DTSTART;TZID="Europe/Andorra":20171022T090000
DTEND;TZID="Europe/Andorra":20171022T150000
DTSTAMP:20260422T111108
CREATED:20170829T150658
LAST-MODIFIED:20170829T151933
UID:9379-1508662800-1508684400@cen.navas.cat
SUMMARY:Trenca 3 pics 2017
DESCRIPTION:Arriba la quarta edició de la cursa de muntanya Trenca 3 Pics de Navàs!\n\nLa cursa idònia per a l’exigent i l’apassionat de les curses de muntanya. La millor ocasió si t’agrada córrer\, envoltat de verd i amb la companyia d’aquells amb qui comparteixes aquesta afició.\n\nAmb multitud de corriols en el transcurs del recorregut\, aquesta promet ser una cursa que no et deixarà indiferent.\n\n\n\nDistància: 22\,00 km\nDesnivell positiu: 700m\n\n\nSortida: Passeig Ramon Vall\, Navàs 09:00h.\nTemps màxim de la prova: 6:00hores\n\nLa ruta passarà pels 3 pics emblemàtics de:Santa Àgata (520m) -  Serrat de l'Àliga (530m) - Vilafresca (565m)\n\nPer més informació de la cursa us podeu dirigir a la web: http://trenca3pics.weebly.com/
URL:http://cen.navas.cat/event/trenca-3-pics-2017/
LOCATION:Passeig Ramon Vall\, 71\, Navàs\, Barcelona\, 08670\, Espanya
CATEGORIES:Mitja Marató dels 3 Pics
ORGANIZER;CN="Centre%20Excursionista%20Nav%C3%A0s%20-%20Trenca%203%20Pics":MAILTO:trenca3pics@gmail.com
END:VEVENT
END:VCALENDAR