BEGIN:VCALENDAR
VERSION:2.0
PRODID:-//Centre Excursionista Navàs - ECPv4.1//NONSGML v1.0//EN
CALSCALE:GREGORIAN
METHOD:PUBLISH
X-WR-CALNAME:Centre Excursionista Navàs
X-ORIGINAL-URL:http://cen.navas.cat
X-WR-CALDESC:Events for Centre Excursionista Navàs
BEGIN:VEVENT
DTSTART;TZID="Europe/Andorra":20200509T170000
DTEND;TZID="Europe/Andorra":20200510T150000
DTSTAMP:20260426T041621
CREATED:20200123T182425
LAST-MODIFIED:20220222T183836
UID:11870-1589043600-1589122800@cen.navas.cat
SUMMARY:La Romànica 2020
DESCRIPTION:
URL:http://cen.navas.cat/event/romanica-navas-2020/
LOCATION:Passeig Ramon Vall\, 71\, Navàs\, Barcelona\, 08670\, Espanya
CATEGORIES:La Romànica
ORGANIZER;CN="Centre%20Excursionista%20de%20Nav%C3%A0s":MAILTO:cen@navas.cat
END:VEVENT
END:VCALENDAR